BEGIN:VCALENDAR
VERSION:2.0
PRODID:-//In der Gemeinde leben gGmbH - Wir machen mit! - ECPv6.15.20//NONSGML v1.0//EN
CALSCALE:GREGORIAN
METHOD:PUBLISH
X-WR-CALNAME:In der Gemeinde leben gGmbH - Wir machen mit!
X-ORIGINAL-URL:https://wirmachenmit.net
X-WR-CALDESC:Veranstaltungen für In der Gemeinde leben gGmbH - Wir machen mit!
REFRESH-INTERVAL;VALUE=DURATION:PT1H
X-Robots-Tag:noindex
X-PUBLISHED-TTL:PT1H
BEGIN:VTIMEZONE
TZID:Europe/Berlin
BEGIN:DAYLIGHT
TZOFFSETFROM:+0100
TZOFFSETTO:+0200
TZNAME:CEST
DTSTART:20250330T010000
END:DAYLIGHT
BEGIN:STANDARD
TZOFFSETFROM:+0200
TZOFFSETTO:+0100
TZNAME:CET
DTSTART:20251026T010000
END:STANDARD
BEGIN:DAYLIGHT
TZOFFSETFROM:+0100
TZOFFSETTO:+0200
TZNAME:CEST
DTSTART:20260329T010000
END:DAYLIGHT
BEGIN:STANDARD
TZOFFSETFROM:+0200
TZOFFSETTO:+0100
TZNAME:CET
DTSTART:20261025T010000
END:STANDARD
BEGIN:DAYLIGHT
TZOFFSETFROM:+0100
TZOFFSETTO:+0200
TZNAME:CEST
DTSTART:20270328T010000
END:DAYLIGHT
BEGIN:STANDARD
TZOFFSETFROM:+0200
TZOFFSETTO:+0100
TZNAME:CET
DTSTART:20271031T010000
END:STANDARD
END:VTIMEZONE
BEGIN:VEVENT
DTSTART;TZID=Europe/Berlin:20260422T100000
DTEND;TZID=Europe/Berlin:20260422T163000
DTSTAMP:20260422T141856
CREATED:20260413T083648Z
LAST-MODIFIED:20260413T084436Z
UID:7329-1776852000-1776875400@wirmachenmit.net
SUMMARY:Social Day mit Kraft Heinz
DESCRIPTION:Social Day mit der Firma Kraft Heinz: Alte Transportboxen zu Hochbeeten für den Gemüseanbau umbauen \nAktionstag am Bauwagen mit der Firma Kraft Heinz – berühmt  für seinen leckeren Ketchup. Gemeinsam möchten wir aus alten Boxen aus der Industrie Hochbeeten machen und einen Weg anlegen.  \nFür Getränke und einen Mittagssnack (Pizza) ist gesorgt.  \nWann? \nMittwoch\, 22. April 2026\, 10:00 – 16:30 Uhr \nWo? \nInklusiver Nachbarschaftsgarten Flingern – Freizeitstätte Icklack Höherweg 12\, 40233 Düsseldorf \nAnreise mit Bus & Bahn: Düsselstrand\, Stadtwerke (706) – Wetterstraße (709) – Langerstraße (738) \nWir freuen uns auf Euch! \nPDF
URL:https://wirmachenmit.net/event/social-day-mit-kraft-heinz/
LOCATION:Nachbarschaftgarten Icklack\, Höherweg 12\, Düsseldorf\, 40233
CATEGORIES:Icklack
ATTACH;FMTTYPE=image/jpeg:https://wirmachenmit.net/wp-content/uploads/2026/04/260309_Anlieferung_27.jpg
END:VEVENT
END:VCALENDAR